BEGIN:VCALENDAR
VERSION:2.0
PRODID:-//Geschichts- und Kulturverein e. V. Maulburg - ECPv6.11.1//NONSGML v1.0//EN
CALSCALE:GREGORIAN
METHOD:PUBLISH
X-WR-CALNAME:Geschichts- und Kulturverein e. V. Maulburg
X-ORIGINAL-URL:https://guk-maulburg.de
X-WR-CALDESC:Veranstaltungen für Geschichts- und Kulturverein e. V. Maulburg
REFRESH-INTERVAL;VALUE=DURATION:PT1H
X-Robots-Tag:noindex
X-PUBLISHED-TTL:PT1H
BEGIN:VTIMEZONE
TZID:Europe/Berlin
BEGIN:DAYLIGHT
TZOFFSETFROM:+0100
TZOFFSETTO:+0200
TZNAME:CEST
DTSTART:20260329T010000
END:DAYLIGHT
BEGIN:STANDARD
TZOFFSETFROM:+0200
TZOFFSETTO:+0100
TZNAME:CET
DTSTART:20261025T010000
END:STANDARD
END:VTIMEZONE
BEGIN:VEVENT
DTSTART;TZID=Europe/Berlin:20260302T150000
DTEND;TZID=Europe/Berlin:20260302T170000
DTSTAMP:20260421T171549
CREATED:20260114T150812Z
LAST-MODIFIED:20260210T162221Z
UID:1126-1772463600-1772470800@guk-maulburg.de
SUMMARY:Kultur-Café mit Julia Dietsche\, Hackbrett
DESCRIPTION:Im Dorfstübli
URL:https://guk-maulburg.de/termin/kultur-cafe-mit-julia-dietsche-hackbrett/
END:VEVENT
BEGIN:VEVENT
DTSTART;TZID=Europe/Berlin:20260311T193000
DTEND;TZID=Europe/Berlin:20260311T213000
DTSTAMP:20260421T171549
CREATED:20260114T151114Z
LAST-MODIFIED:20260228T151739Z
UID:1128-1773257400-1773264600@guk-maulburg.de
SUMMARY:Vortrag Martin Schulte-Kellinghaus "Mythische Orte am Oberrhein"
DESCRIPTION:Im Dorfstübli
URL:https://guk-maulburg.de/termin/vortrag-martin-schulte-kellinghaus-mythische-orte-am-oberrhein/
END:VEVENT
END:VCALENDAR