BEGIN:VCALENDAR
VERSION:2.0
PRODID:-//Geschichts- und Kulturverein e. V. Maulburg - ECPv6.11.1//NONSGML v1.0//EN
CALSCALE:GREGORIAN
METHOD:PUBLISH
X-ORIGINAL-URL:https://guk-maulburg.de
X-WR-CALDESC:Veranstaltungen für Geschichts- und Kulturverein e. V. Maulburg
REFRESH-INTERVAL;VALUE=DURATION:PT1H
X-Robots-Tag:noindex
X-PUBLISHED-TTL:PT1H
BEGIN:VTIMEZONE
TZID:Europe/Berlin
BEGIN:DAYLIGHT
TZOFFSETFROM:+0100
TZOFFSETTO:+0200
TZNAME:CEST
DTSTART:20260329T010000
END:DAYLIGHT
BEGIN:STANDARD
TZOFFSETFROM:+0200
TZOFFSETTO:+0100
TZNAME:CET
DTSTART:20261025T010000
END:STANDARD
END:VTIMEZONE
BEGIN:VEVENT
DTSTART;TZID=Europe/Berlin:20260117T170000
DTEND;TZID=Europe/Berlin:20260117T190000
DTSTAMP:20260421T202211
CREATED:20260114T145123Z
LAST-MODIFIED:20260114T150109Z
UID:1118-1768669200-1768676400@guk-maulburg.de
SUMMARY:Konzert Suggar Foot Stompers
DESCRIPTION:in der Ev. Kirche in Maulburg \n\n\n\n\n\n\n\n\n\n45 Jahre Sugar Foot Stompers mit Tribute to 100 years LouisArmstrong’s Hot Five!Freuen Sie sich auf eine einmalige Zeitreise nach Chicago in dieJazzclubs der Roaring Twenties!Besetzung: \n\n\n\nMarko Frank: TrompeteAndreas Walter: KlarinetteHiroki Ichikawa: Klarinette\, Saxophon\, Waschbrett \n\n\n\nThomas Kaltenbach: PosauneChristian Mauch: BanjoJulian Moehring: KlavierBernd Schöpflin: Tuba \n\n\n\nHeiner Krause: Waschbrett\, Cornet
URL:https://guk-maulburg.de/termin/konzert-suggar-foot-stompers/
ATTACH;FMTTYPE=image/jpeg:https://guk-maulburg.de/wp-content/uploads/2026/01/geschichts-und-kulturverein-e-v_TermineVerein_20260117-Konzert.jpg
END:VEVENT
END:VCALENDAR