BEGIN:VCALENDAR
VERSION:2.0
PRODID:-//Geschichts- und Kulturverein e. V. Maulburg - ECPv6.11.1//NONSGML v1.0//EN
CALSCALE:GREGORIAN
METHOD:PUBLISH
X-ORIGINAL-URL:https://guk-maulburg.de
X-WR-CALDESC:Veranstaltungen für Geschichts- und Kulturverein e. V. Maulburg
REFRESH-INTERVAL;VALUE=DURATION:PT1H
X-Robots-Tag:noindex
X-PUBLISHED-TTL:PT1H
BEGIN:VTIMEZONE
TZID:Europe/Berlin
BEGIN:DAYLIGHT
TZOFFSETFROM:+0100
TZOFFSETTO:+0200
TZNAME:CEST
DTSTART:20250330T010000
END:DAYLIGHT
BEGIN:STANDARD
TZOFFSETFROM:+0200
TZOFFSETTO:+0100
TZNAME:CET
DTSTART:20251026T010000
END:STANDARD
END:VTIMEZONE
BEGIN:VEVENT
DTSTART;TZID=Europe/Berlin:20251103T150000
DTEND;TZID=Europe/Berlin:20251103T170000
DTSTAMP:20260421T234044
CREATED:20251103T093003Z
LAST-MODIFIED:20251103T093006Z
UID:1060-1762182000-1762189200@guk-maulburg.de
SUMMARY:Café GuK
DESCRIPTION:
URL:https://guk-maulburg.de/termin/cafe-guk/
ATTACH;FMTTYPE=image/jpeg:https://guk-maulburg.de/wp-content/uploads/2025/11/geschichts-und-kulturverein-e-v_TermineVerein_20251103-Cafe.jpeg
END:VEVENT
BEGIN:VEVENT
DTSTART;TZID=Europe/Berlin:20251108T150000
DTEND;TZID=Europe/Berlin:20251108T170000
DTSTAMP:20260421T234044
CREATED:20251103T093341Z
LAST-MODIFIED:20251103T093344Z
UID:1063-1762614000-1762621200@guk-maulburg.de
SUMMARY:Familiencafé
DESCRIPTION:
URL:https://guk-maulburg.de/termin/familiencafe/
ATTACH;FMTTYPE=image/jpeg:https://guk-maulburg.de/wp-content/uploads/2025/11/geschichts-und-kulturverein-e-v_TermineVerein_20251108-Puppentheater.jpg
END:VEVENT
END:VCALENDAR